View In:
ArcGIS JavaScript
ArcGIS Online Map Viewer
ArcGIS Earth
ArcGIS Pro
Service Description:
Map Name: Katastrálnà mapa
Legend
All Layers and Tables
Dynamic Legend
Dynamic All Layers
Layers:
Description:
Service Item Id: 80865e8f46c74b928925729a49aeda9c
Copyright Text:
Spatial Reference:
102067
(5514)
Single Fused Map Cache: true
Tile Info:
- Height: 256
- Width: 256
- DPI: 96
-
Levels of Detail: 19
-
Level ID: 0
[ Start Tile, End Tile ]
- Resolution: 263278.3644161218
- Scale: 9.950678340136886E8
-
Level ID: 1
[ Start Tile, End Tile ]
- Resolution: 131639.1822080609
- Scale: 4.975339170068443E8
-
Level ID: 2
[ Start Tile, End Tile ]
- Resolution: 65819.59110403045
- Scale: 2.4876695850342214E8
-
Level ID: 3
[ Start Tile, End Tile ]
- Resolution: 32909.795552015225
- Scale: 1.2438347925171107E8
-
Level ID: 4
[ Start Tile, End Tile ]
- Resolution: 16454.897776007612
- Scale: 6.2191739625855535E7
-
Level ID: 5
[ Start Tile, End Tile ]
- Resolution: 8227.448888003806
- Scale: 3.1095869812927768E7
-
Level ID: 6
[ Start Tile, End Tile ]
- Resolution: 4113.724444001903
- Scale: 1.5547934906463884E7
-
Level ID: 7
[ Start Tile, End Tile ]
- Resolution: 2056.8622220009515
- Scale: 7773967.453231942
-
Level ID: 8
[ Start Tile, End Tile ]
- Resolution: 1028.4311110004758
- Scale: 3886983.726615971
-
Level ID: 9
[ Start Tile, End Tile ]
- Resolution: 514.2155555002379
- Scale: 1943491.8633079855
-
Level ID: 10
[ Start Tile, End Tile ]
- Resolution: 257.10777775011894
- Scale: 971745.9316539927
-
Level ID: 11
[ Start Tile, End Tile ]
- Resolution: 128.55388887505947
- Scale: 485872.96582699637
-
Level ID: 12
[ Start Tile, End Tile ]
- Resolution: 64.27694443752974
- Scale: 242936.48291349818
-
Level ID: 13
[ Start Tile, End Tile ]
- Resolution: 32.13847221876487
- Scale: 121468.24145674909
-
Level ID: 14
[ Start Tile, End Tile ]
- Resolution: 16.069236109382434
- Scale: 60734.120728374546
-
Level ID: 15
[ Start Tile, End Tile ]
- Resolution: 8.034618054691217
- Scale: 30367.060364187273
-
Level ID: 16
[ Start Tile, End Tile ]
- Resolution: 4.0173090273456085
- Scale: 15183.530182093637
-
Level ID: 17
[ Start Tile, End Tile ]
- Resolution: 2.0086545136728042
- Scale: 7591.765091046818
-
Level ID: 18
[ Start Tile, End Tile ]
- Resolution: 1.0043272568364021
- Scale: 3795.882545523409
- Format: PNG
- Compression Quality: 0.0
- Origin: X: -3.369963064526359E7
Y: 3.366613058461973E7
- Spatial Reference: 102067
(5514)
Storage Info:
- Storage Format: esriMapCacheStorageModeCompactV2
- Packet Size: 128
Initial Extent:
XMin: -809789.6574534548
YMin: -992407.9200997896
XMax: -806675.9036106362
YMax: -991413.9196958056
Spatial Reference: 102067
(5514)
Full Extent:
XMin: -810308.8277715255
YMin: -990858.995767721
XMax: -809374.7623771331
YMax: -990541.6284377369
Spatial Reference: 102067
(5514)
Units: esriMeters
Supported Image Format Types: PNG32,PNG24,PNG,JPG,DIB,TIFF,EMF,PS,PDF,GIF,SVG,SVGZ,BMP
Document Info:
Title: Mapa
Author:
Comments:
Subject:
Category:
Keywords: KN
AntialiasingMode: Fast
TextAntialiasingMode: Force
Supports Dynamic Layers: true
MaxRecordCount: 2000
MaxImageHeight: 4096
MaxImageWidth: 4096
Supported Query Formats: JSON, geoJSON, PBF
Supports Query Data Elements: true
Min Scale: 9.950678340136886E8
Max Scale: 3795.882545523409
Min LOD: 0
Max LOD: 18
Supports Datum Transformation: true
Child Resources:
Info
Dynamic Layer
Supported Operations:
Export Map
Identify
QueryLegends
QueryDomains
Find
Return Updates