{
 "currentVersion": 11.1,
 "cimVersion": "3.1.0",
 "serviceDescription": "",
 "mapName": "Katastrálnà mapa",
 "description": "",
 "copyrightText": "",
 "supportsDynamicLayers": true,
 "layers": [],
 "tables": [],
 "spatialReference": {
  "wkid": 102067,
  "latestWkid": 5514,
  "xyTolerance": 0.001,
  "zTolerance": 0.001,
  "mTolerance": 0.001,
  "falseX": -33699800,
  "falseY": -33699800,
  "xyUnits": 10000,
  "falseZ": -100000,
  "zUnits": 10000,
  "falseM": -100000,
  "mUnits": 10000
 },
 "singleFusedMapCache": true,
 "tileInfo": {
  "rows": 256,
  "cols": 256,
  "dpi": 96,
  "format": "PNG",
  "compressionQuality": 0,
  "origin": {
   "x": -3.369963064526359E7,
   "y": 3.366613058461973E7
  },
  "spatialReference": {
   "wkid": 102067,
   "latestWkid": 5514,
   "xyTolerance": 0.001,
   "zTolerance": 0.001,
   "mTolerance": 0.001,
   "falseX": -33699800,
   "falseY": -33699800,
   "xyUnits": 10000,
   "falseZ": -100000,
   "zUnits": 10000,
   "falseM": -100000,
   "mUnits": 10000
  },
  "lods": [
   {
    "level": 0,
    "resolution": 263278.3644161218,
    "scale": 9.950678340136886E8
   },
   {
    "level": 1,
    "resolution": 131639.1822080609,
    "scale": 4.975339170068443E8
   },
   {
    "level": 2,
    "resolution": 65819.59110403045,
    "scale": 2.4876695850342214E8
   },
   {
    "level": 3,
    "resolution": 32909.795552015225,
    "scale": 1.2438347925171107E8
   },
   {
    "level": 4,
    "resolution": 16454.897776007612,
    "scale": 6.2191739625855535E7
   },
   {
    "level": 5,
    "resolution": 8227.448888003806,
    "scale": 3.1095869812927768E7
   },
   {
    "level": 6,
    "resolution": 4113.724444001903,
    "scale": 1.5547934906463884E7
   },
   {
    "level": 7,
    "resolution": 2056.8622220009515,
    "scale": 7773967.453231942
   },
   {
    "level": 8,
    "resolution": 1028.4311110004758,
    "scale": 3886983.726615971
   },
   {
    "level": 9,
    "resolution": 514.2155555002379,
    "scale": 1943491.8633079855
   },
   {
    "level": 10,
    "resolution": 257.10777775011894,
    "scale": 971745.9316539927
   },
   {
    "level": 11,
    "resolution": 128.55388887505947,
    "scale": 485872.96582699637
   },
   {
    "level": 12,
    "resolution": 64.27694443752974,
    "scale": 242936.48291349818
   },
   {
    "level": 13,
    "resolution": 32.13847221876487,
    "scale": 121468.24145674909
   },
   {
    "level": 14,
    "resolution": 16.069236109382434,
    "scale": 60734.120728374546
   },
   {
    "level": 15,
    "resolution": 8.034618054691217,
    "scale": 30367.060364187273
   },
   {
    "level": 16,
    "resolution": 4.0173090273456085,
    "scale": 15183.530182093637
   },
   {
    "level": 17,
    "resolution": 2.0086545136728042,
    "scale": 7591.765091046818
   },
   {
    "level": 18,
    "resolution": 1.0043272568364021,
    "scale": 3795.882545523409
   }
  ]
 },
 "storageInfo": {
  "storageFormat": "esriMapCacheStorageModeCompactV2",
  "packetSize": 128
 },
 "initialExtent": {
  "xmin": -809789.6574534548,
  "ymin": -992407.9200997896,
  "xmax": -806675.9036106362,
  "ymax": -991413.9196958056,
  "spatialReference": {
   "wkid": 102067,
   "latestWkid": 5514,
   "xyTolerance": 0.001,
   "zTolerance": 0.001,
   "mTolerance": 0.001,
   "falseX": -33699800,
   "falseY": -33699800,
   "xyUnits": 10000,
   "falseZ": -100000,
   "zUnits": 10000,
   "falseM": -100000,
   "mUnits": 10000
  }
 },
 "fullExtent": {
  "xmin": -810308.8277715255,
  "ymin": -990858.995767721,
  "xmax": -809374.7623771331,
  "ymax": -990541.6284377369,
  "spatialReference": {
   "wkid": 102067,
   "latestWkid": 5514,
   "xyTolerance": 0.001,
   "zTolerance": 0.001,
   "mTolerance": 0.001,
   "falseX": -33699800,
   "falseY": -33699800,
   "xyUnits": 10000,
   "falseZ": -100000,
   "zUnits": 10000,
   "falseM": -100000,
   "mUnits": 10000
  }
 },
 "datesInUnknownTimezone": false,
 "minScale": 9.950678340136886E8,
 "maxScale": 3795.882545523409,
 "minLOD": 0,
 "maxLOD": 18,
 "units": "esriMeters",
 "supportedImageFormatTypes": "PNG32,PNG24,PNG,JPG,DIB,TIFF,EMF,PS,PDF,GIF,SVG,SVGZ,BMP",
 "documentInfo": {
  "Title": "Mapa",
  "Author": "",
  "Comments": "",
  "Subject": "",
  "Category": "",
  "Version": "2.4.0",
  "AntialiasingMode": "Fast",
  "TextAntialiasingMode": "Force",
  "Keywords": "KN"
 },
 "capabilities": "Map,Query,Data",
 "supportedQueryFormats": "JSON, geoJSON, PBF",
 "exportTilesAllowed": false,
 "referenceScale": 0.0,
 "datumTransformations": [
  {
   "geoTransforms": [
    {
     "wkid": 1623,
     "latestWkid": 1623,
     "transformForward": true,
     "name": "S_JTSK_To_WGS_1984_1"
    }
   ]
  },
  {
   "geoTransforms": [
    {
     "wkid": 1623,
     "latestWkid": 1623,
     "transformForward": false,
     "name": "S_JTSK_To_WGS_1984_1"
    }
   ]
  }
 ],
 "supportsDatumTransformation": true,
 "archivingInfo": {
  "supportsHistoricMoment": false
 },
 "supportsClipping": true,
 "supportsSpatialFilter": true,
 "supportsTimeRelation": true,
 "supportsQueryDataElements": true,
 "mapUnits": {
  "uwkid": 9001
 },
 "maxRecordCount": 2000,
 "maxImageHeight": 4096,
 "maxImageWidth": 4096,
 "supportedExtensions": "",
 "serviceItemId": "80865e8f46c74b928925729a49aeda9c"
}
